BEGIN:VCALENDAR
VERSION:2.0
PRODID:-//Real Estate Success Institute - ECPv6.15.20//NONSGML v1.0//EN
CALSCALE:GREGORIAN
METHOD:PUBLISH
X-WR-CALNAME:Real Estate Success Institute
X-ORIGINAL-URL:https://resuccessinstitute.com
X-WR-CALDESC:Events for Real Estate Success Institute
REFRESH-INTERVAL;VALUE=DURATION:PT1H
X-Robots-Tag:noindex
X-PUBLISHED-TTL:PT1H
BEGIN:VTIMEZONE
TZID:America/New_York
BEGIN:DAYLIGHT
TZOFFSETFROM:-0500
TZOFFSETTO:-0400
TZNAME:EDT
DTSTART:20220313T070000
END:DAYLIGHT
BEGIN:STANDARD
TZOFFSETFROM:-0400
TZOFFSETTO:-0500
TZNAME:EST
DTSTART:20221106T060000
END:STANDARD
BEGIN:DAYLIGHT
TZOFFSETFROM:-0500
TZOFFSETTO:-0400
TZNAME:EDT
DTSTART:20230312T070000
END:DAYLIGHT
BEGIN:STANDARD
TZOFFSETFROM:-0400
TZOFFSETTO:-0500
TZNAME:EST
DTSTART:20231105T060000
END:STANDARD
BEGIN:DAYLIGHT
TZOFFSETFROM:-0500
TZOFFSETTO:-0400
TZNAME:EDT
DTSTART:20240310T070000
END:DAYLIGHT
BEGIN:STANDARD
TZOFFSETFROM:-0400
TZOFFSETTO:-0500
TZNAME:EST
DTSTART:20241103T060000
END:STANDARD
END:VTIMEZONE
BEGIN:VTIMEZONE
TZID:UTC
BEGIN:STANDARD
TZOFFSETFROM:+0000
TZOFFSETTO:+0000
TZNAME:UTC
DTSTART:20220101T000000
END:STANDARD
END:VTIMEZONE
BEGIN:VEVENT
DTSTART;TZID=America/New_York:20230801T100000
DTEND;TZID=America/New_York:20230801T120000
DTSTAMP:20260421T072315
CREATED:20230301T163058Z
LAST-MODIFIED:20230301T163058Z
UID:4889-1690884000-1690891200@resuccessinstitute.com
SUMMARY:REALTOR® Code of Ethics (3 Hour)
DESCRIPTION:Presented By: NEXUS Association of REALTORS®\nProduct Type: Webinar\nContinuing Education Credit: New Jersey Real Estate: 3 Ethics Credits (C20200442)\nPrice: Member – $0/Non-member – $30\nImportant Message: Free to Nexus members. This 3-hour course will satisfy both the NAR Code of Ethics and NJREC Continuing Education Requirement. Review The Code of Ethics here:https://www.nar.realtor/about-nar/governing-documents/code-of-ethics/code-of-ethics-training\n\nInstructor: Anna Janda\nDescription: This course covers the REALTOR Code of Ethics of the National Association of REALTORS in its entirety. Students will learn about the Preamble to the Code\, the 17 Articles of the Code and their respective Standards of Practice\, as well as the Pathways to Professionalism.\n\n  \nREGISTER HERE
URL:https://resuccessinstitute.com/calendar/realtor-code-of-ethics-3-hour-16/
LOCATION:Live Webinar
END:VEVENT
BEGIN:VEVENT
DTSTART;TZID=America/New_York:20230803T100000
DTEND;TZID=America/New_York:20230803T120000
DTSTAMP:20260421T072315
CREATED:20230301T163311Z
LAST-MODIFIED:20230301T163311Z
UID:4892-1691056800-1691064000@resuccessinstitute.com
SUMMARY:Webinar - Nexus New Member Orientation
DESCRIPTION:Presented By: NEXUS Association of REALTORS®\nProduct Type: Webinar; Not for CE\nImportant Message: You also need to complete the REALTOR® Code of Ethics if you have not already done so. The NJR online Ethics or Nexus live webinar must be taken any time prior to August 2\, 2023\, and your Certificate of Completion must be emailed to Lmarchlewski@nexusaor.com before this date.\n\nSpeaker: Anna Janda\nDescription:\nNexus Association New Member Orientation including Introduction to BRIGHT MLS. \n\nWe will be hosting New Member Orientation virtually through GoToMeeting via the Academy of Continuing Education (ACE). You will receive a launch webinar link one hour prior to class. \nIf you have any questions or concerns\, please contact the Director of Education\, Lisa Clark\, at (856) 428-1013 or via email: Lclark@nexusaor.com \n  \n\nREGISTER HERE
URL:https://resuccessinstitute.com/calendar/webinar-nexus-new-member-orientation-17/
LOCATION:Live Webinar
END:VEVENT
BEGIN:VEVENT
DTSTART;TZID=UTC:20230809T100000
DTEND;TZID=UTC:20230809T110000
DTSTAMP:20260421T072315
CREATED:20221115T213629Z
LAST-MODIFIED:20221115T213629Z
UID:4600-1691575200-1691578800@resuccessinstitute.com
SUMMARY:Tools to Get Started with Bright MLS
DESCRIPTION:Description: Prior to your search and before adding a listing\, we want to ensure that you are ready for\nsuccess! This class will show you how to establish and manage your account. This class is recommended\nfor new agents and anyone who needs a refresher. You will learn the following:\n• What is Bright MLS and what’s included with your subscription\n• How to access and navigate Bright MLS\n• How to setup your account\, settings\, and notifications\n• The most important policies and rules to stay in compliance\n• Where to find additional resources including education\, training\, and support \n*THIS IS AN IN PERSON CLASS. LOCATION TBD* \nREGISTER HERE
URL:https://resuccessinstitute.com/calendar/tools-to-get-started-with-bright-mls-3/
LOCATION:TBD
END:VEVENT
BEGIN:VEVENT
DTSTART;TZID=UTC:20230809T113000
DTEND;TZID=UTC:20230809T123000
DTSTAMP:20260421T072315
CREATED:20221115T213820Z
LAST-MODIFIED:20221115T213820Z
UID:4602-1691580600-1691584200@resuccessinstitute.com
SUMMARY:Bright MLS Search Essentials
DESCRIPTION:Description: Want to learn how search productively? In the is class you will learn how to search\, share\nlistings\, and keep clients updated. You will also learn some time saving tips and tricks. You will be able\nto:\n• Navigate and fully utilize the search menu\n• Share and show results to your clients\n• Access relevant reports\n• Understand how to use partner and premium products in your home search  \n*THIS IS AN IN PERSON CLASS. LOCATION TBD* \nREGISTER HERE
URL:https://resuccessinstitute.com/calendar/bright-mls-search-essentials-4/
LOCATION:TBD
END:VEVENT
BEGIN:VEVENT
DTSTART;TZID=America/New_York:20230810T100000
DTEND;TZID=America/New_York:20230810T110000
DTSTAMP:20260421T072315
CREATED:20230629T184008Z
LAST-MODIFIED:20230707T153738Z
UID:5062-1691661600-1691665200@resuccessinstitute.com
SUMMARY:Nexus Morning Connect - Artificial Intelligence (AI) in Real Estate
DESCRIPTION:Presented By: NEXUS Association of REALTORS® and University Title Insurance Agency\n\nContinuing Education Credit: \n\nNot for CE\n\nPrice: Member – Free \n\nImportant Message: This is an in-person class at NEXUS Toms River\n\n\nInstructor: Deborah Henderson\n\nDescription: \n\nNEXUS Morning Connect is a quick jot of industry tips and insights. This series is an impactful way to expand your knowledge in topics related to your industry\, instructed by the professionals who know them best. Free for all NEXUS members. \nArtificial Intelligence (AI) in Real Estate: Revolutionizing the Way You Sell \nAgents will learn how to use some key AI tools including ChatGPT\, Midjourney and several other lead generation AI tools that can help to improve efficiency and marketing efforts. \n\nWhat is AI and how is it being used in real estate today?\nWhat is ChatGPT how you can use it/ legal considerations?\nWhat are some AI tools for creating visuals for marketing/legal considerations?\nWhat are some Lead generation tools that use AI that are available to get better predictions for who may sell?\nWhat are some AI tools that help you to automate/streamline your business?\n\nREGISTER HERE
URL:https://resuccessinstitute.com/calendar/nexus-morning-connect-artificial-intelligence-ai-in-r-e/
LOCATION:NEXUS Association of REALTORS® – Toms River\, 271 Lakehurst Road\, Toms River\, NJ\, 08755\, United States
END:VEVENT
BEGIN:VEVENT
DTSTART;TZID=America/New_York:20230816T100000
DTEND;TZID=America/New_York:20230816T110000
DTSTAMP:20260421T072315
CREATED:20230629T184641Z
LAST-MODIFIED:20230629T184641Z
UID:5064-1692180000-1692183600@resuccessinstitute.com
SUMMARY:NEXUS Morning Connect - Working with Buyers Unqualified for Traditional Financing
DESCRIPTION:Presented By: NEXUS Association of REALTORS® and 1031 Exhange\n\nContinuing Education Credit: \n\nNot for CE\n\nPrice: Member – Free \n\nImportant Message: This is an in-person class\n\n\nInstructor: Mike McKeown of Allied Mortgage Group\n\nDescription: \n\nNEXUS Morning Connect is a quick jot of industry tips and insights. This series is an impactful way to expand your knowledge in topics related to your industry\, instructed by the professionals who know them best. Free for all NEXUS members. \nMany buyers today do not qualify for traditional financing. How do you serve them? We have many types of loan programs that can help these buyers buy homes. My class is teaching you about them\, so you turn these clients into closed deals. \nWorking with Buyers Unqualified for Traditional Financing \n\nLearn how a “bank statement loan” works and how we qualify them.\nPurchasing an investment property using only the proposed rental income to qualify.\nNo doc loans. How these loans work and what is verified.\nForeign National Loans\, ITIN\, 1099’s loans\, and more!!!\n\nREGISTER HERE 
URL:https://resuccessinstitute.com/calendar/nexus-morning-connect-working-with-buyers-unqualified-for-traditional-financing/
LOCATION:NEXUS Association of Realtors® – Cherry Hill\, 306 Kings Highway South\, Cherry Hill\, NJ\, 08034\, United States
END:VEVENT
END:VCALENDAR