BEGIN:VCALENDAR
VERSION:2.0
PRODID:-//Real Estate Success Institute - ECPv6.15.20//NONSGML v1.0//EN
CALSCALE:GREGORIAN
METHOD:PUBLISH
X-WR-CALNAME:Real Estate Success Institute
X-ORIGINAL-URL:https://resuccessinstitute.com
X-WR-CALDESC:Events for Real Estate Success Institute
REFRESH-INTERVAL;VALUE=DURATION:PT1H
X-Robots-Tag:noindex
X-PUBLISHED-TTL:PT1H
BEGIN:VTIMEZONE
TZID:America/New_York
BEGIN:DAYLIGHT
TZOFFSETFROM:-0500
TZOFFSETTO:-0400
TZNAME:EDT
DTSTART:20220313T070000
END:DAYLIGHT
BEGIN:STANDARD
TZOFFSETFROM:-0400
TZOFFSETTO:-0500
TZNAME:EST
DTSTART:20221106T060000
END:STANDARD
BEGIN:DAYLIGHT
TZOFFSETFROM:-0500
TZOFFSETTO:-0400
TZNAME:EDT
DTSTART:20230312T070000
END:DAYLIGHT
BEGIN:STANDARD
TZOFFSETFROM:-0400
TZOFFSETTO:-0500
TZNAME:EST
DTSTART:20231105T060000
END:STANDARD
BEGIN:DAYLIGHT
TZOFFSETFROM:-0500
TZOFFSETTO:-0400
TZNAME:EDT
DTSTART:20240310T070000
END:DAYLIGHT
BEGIN:STANDARD
TZOFFSETFROM:-0400
TZOFFSETTO:-0500
TZNAME:EST
DTSTART:20241103T060000
END:STANDARD
END:VTIMEZONE
BEGIN:VEVENT
DTSTART;TZID=America/New_York:20231109T100000
DTEND;TZID=America/New_York:20231109T110000
DTSTAMP:20260419T093800
CREATED:20231012T154832Z
LAST-MODIFIED:20231012T165024Z
UID:5133-1699524000-1699527600@resuccessinstitute.com
SUMMARY:Nexus Morning Connect - Home Warranty Basics
DESCRIPTION:Presented By: NEXUS Association of REALTORS®\n\nContinuing Education Credit: \n\nNot for CE\n\nPrice: Member – Free \n\nImportant Message: Live Webinar\n\n\nInstructor: Vincent Connelly\n\nDescription: \n\nWhat is a Home Warranty \nWe will discuss: \nCoverage\, options\, the role of home inspection\, trade service fees\, service threshold\, and payment for service. How to file a home warranty claim. Also discuss hot home warranty topics; SEER rating\, R22 to R410.  Q&A \n\nThe Importance of a Home Warranty\nValue proposition for Sellers & Buyers Listing\nSetting good expectations for the claims process\n\nREGISTER HERE 
URL:https://resuccessinstitute.com/calendar/nexus-morning-connect-home-warranty-basics/
LOCATION:Live Webinar
END:VEVENT
END:VCALENDAR