BEGIN:VCALENDAR
VERSION:2.0
PRODID:-//Real Estate Success Institute - ECPv6.15.20//NONSGML v1.0//EN
CALSCALE:GREGORIAN
METHOD:PUBLISH
X-WR-CALNAME:Real Estate Success Institute
X-ORIGINAL-URL:https://resuccessinstitute.com
X-WR-CALDESC:Events for Real Estate Success Institute
REFRESH-INTERVAL;VALUE=DURATION:PT1H
X-Robots-Tag:noindex
X-PUBLISHED-TTL:PT1H
BEGIN:VTIMEZONE
TZID:UTC
BEGIN:STANDARD
TZOFFSETFROM:+0000
TZOFFSETTO:+0000
TZNAME:UTC
DTSTART:20220101T000000
END:STANDARD
END:VTIMEZONE
BEGIN:VTIMEZONE
TZID:America/New_York
BEGIN:DAYLIGHT
TZOFFSETFROM:-0500
TZOFFSETTO:-0400
TZNAME:EDT
DTSTART:20220313T070000
END:DAYLIGHT
BEGIN:STANDARD
TZOFFSETFROM:-0400
TZOFFSETTO:-0500
TZNAME:EST
DTSTART:20221106T060000
END:STANDARD
BEGIN:DAYLIGHT
TZOFFSETFROM:-0500
TZOFFSETTO:-0400
TZNAME:EDT
DTSTART:20230312T070000
END:DAYLIGHT
BEGIN:STANDARD
TZOFFSETFROM:-0400
TZOFFSETTO:-0500
TZNAME:EST
DTSTART:20231105T060000
END:STANDARD
BEGIN:DAYLIGHT
TZOFFSETFROM:-0500
TZOFFSETTO:-0400
TZNAME:EDT
DTSTART:20240310T070000
END:DAYLIGHT
BEGIN:STANDARD
TZOFFSETFROM:-0400
TZOFFSETTO:-0500
TZNAME:EST
DTSTART:20241103T060000
END:STANDARD
END:VTIMEZONE
BEGIN:VEVENT
DTSTART;TZID=UTC:20231108T100000
DTEND;TZID=UTC:20231108T110000
DTSTAMP:20260421T085543
CREATED:20221115T214636Z
LAST-MODIFIED:20221115T214636Z
UID:4612-1699437600-1699441200@resuccessinstitute.com
SUMMARY:Tools to Get Started with Bright MLS
DESCRIPTION:Description: Prior to your search and before adding a listing\, we want to ensure that you are ready for\nsuccess! This class will show you how to establish and manage your account. This class is recommended\nfor new agents and anyone who needs a refresher. You will learn the following:\n• What is Bright MLS and what’s included with your subscription\n• How to access and navigate Bright MLS\n• How to setup your account\, settings\, and notifications\n• The most important policies and rules to stay in compliance\n• Where to find additional resources including education\, training\, and support \nREGISTER HERE
URL:https://resuccessinstitute.com/calendar/tools-to-get-started-with-bright-mls-4/
LOCATION:Live Webinar
END:VEVENT
BEGIN:VEVENT
DTSTART;TZID=UTC:20231108T113000
DTEND;TZID=UTC:20231108T123000
DTSTAMP:20260421T085543
CREATED:20221115T214743Z
LAST-MODIFIED:20221115T214743Z
UID:4614-1699443000-1699446600@resuccessinstitute.com
SUMMARY:Bright MLS Search Essentials
DESCRIPTION:Description: Want to learn how search productively? In the is class you will learn how to search\, share\nlistings\, and keep clients updated. You will also learn some time saving tips and tricks. You will be able\nto:\n• Navigate and fully utilize the search menu\n• Share and show results to your clients\n• Access relevant reports\n• Understand how to use partner and premium products in your home search \nREGISTER HERE
URL:https://resuccessinstitute.com/calendar/bright-mls-search-essentials-5/
LOCATION:Live Webinar
END:VEVENT
BEGIN:VEVENT
DTSTART;TZID=America/New_York:20231108T130000
DTEND;TZID=America/New_York:20231108T150000
DTSTAMP:20260421T085543
CREATED:20231018T165354Z
LAST-MODIFIED:20231101T204008Z
UID:5143-1699448400-1699455600@resuccessinstitute.com
SUMMARY:Show 3 Buy 1...The Myths of Buyer's Agency
DESCRIPTION:Presented By: NEXUS Association of REALTORS® \n\nContinuing Education Credit: \n\n2 Core Credits\n\nPrice: Member : $25 \, Non-member : $45 \n\nImportant Message: **Live In-Person CE Class – The Westin Mount Laurel**\n\nInstructor:  Jeremias Maneiro\n\n\nDescription: \n\nIn today’s session you will learn: \nEducate Your Clients on Their Biggest Investment \n\nMaster the professional way to handle a Buyer’s Agency relationship.\nLearn about discussing compensation\, your responsibilities\, myths to avoid\, and educating buyers on the biggest investment they’ll ever make!\nEarn 2 Core NJ CE Credits\n\nBuyer’s Agency it’s so easy we show 3 houses\, go to a coffee shop\, buyer picks the home they want\, agent sends offer to listing agent\, close on the house and everyone is happy. Fact or Fiction? \nHow do we educate buyers on what is most often the biggest investment they will make in their lifetime? \nWhen do we present the CIS form? What is the responsibility of the Buyer’s Agent? Is the buyer a client or customer? Elements of a Buyer’s Agency Agreement and discussing compensation. All this and more will be discussed\, as we work to dispel myths and avoid misunderstandings in the Buyer’s Agency relationship. \nREGISTER HERE 
URL:https://resuccessinstitute.com/calendar/show-3-buy-1-the-myths-of-buyers-agency-4/
LOCATION:Live Webinar
END:VEVENT
END:VCALENDAR