BEGIN:VCALENDAR
VERSION:2.0
PRODID:-//Real Estate Success Institute - ECPv6.15.20//NONSGML v1.0//EN
CALSCALE:GREGORIAN
METHOD:PUBLISH
X-ORIGINAL-URL:https://resuccessinstitute.com
X-WR-CALDESC:Events for Real Estate Success Institute
REFRESH-INTERVAL;VALUE=DURATION:PT1H
X-Robots-Tag:noindex
X-PUBLISHED-TTL:PT1H
BEGIN:VTIMEZONE
TZID:America/New_York
BEGIN:DAYLIGHT
TZOFFSETFROM:-0500
TZOFFSETTO:-0400
TZNAME:EDT
DTSTART:20220313T070000
END:DAYLIGHT
BEGIN:STANDARD
TZOFFSETFROM:-0400
TZOFFSETTO:-0500
TZNAME:EST
DTSTART:20221106T060000
END:STANDARD
BEGIN:DAYLIGHT
TZOFFSETFROM:-0500
TZOFFSETTO:-0400
TZNAME:EDT
DTSTART:20230312T070000
END:DAYLIGHT
BEGIN:STANDARD
TZOFFSETFROM:-0400
TZOFFSETTO:-0500
TZNAME:EST
DTSTART:20231105T060000
END:STANDARD
BEGIN:DAYLIGHT
TZOFFSETFROM:-0500
TZOFFSETTO:-0400
TZNAME:EDT
DTSTART:20240310T070000
END:DAYLIGHT
BEGIN:STANDARD
TZOFFSETFROM:-0400
TZOFFSETTO:-0500
TZNAME:EST
DTSTART:20241103T060000
END:STANDARD
END:VTIMEZONE
BEGIN:VEVENT
DTSTART;TZID=America/New_York:20231023T100000
DTEND;TZID=America/New_York:20231023T130000
DTSTAMP:20260419T105213
CREATED:20230301T183124Z
LAST-MODIFIED:20230301T183124Z
UID:4907-1698055200-1698066000@resuccessinstitute.com
SUMMARY:REALTOR® Code of Ethics (3 Hour)
DESCRIPTION:Presented By: NEXUS Association of REALTORS®\n\nProduct Type: Webinar\n\nContinuing Education Credit: New Jersey Real Estate: 3 Ethics Credits (C20200442)\n\nPrice: Member – $0 / Non-member – $30\n\nImportant Message: Free to Nexus members. This 3-hour course will satisfy both the NAR Code of Ethics and NJREC Continuing Education Requirement. Review The Code of Ethics\n here:https://www.nar.realtor/about-nar/governing-documents/code-of-ethics/code-of-ethics-training\n\n\nInstructor: Anna Janda\n\n\nREGISTER HERE
URL:https://resuccessinstitute.com/calendar/realtor-code-of-ethics-3-hour-18/
LOCATION:Live Webinar
END:VEVENT
END:VCALENDAR