BEGIN:VCALENDAR
VERSION:2.0
PRODID:-//Real Estate Success Institute - ECPv6.15.20//NONSGML v1.0//EN
CALSCALE:GREGORIAN
METHOD:PUBLISH
X-ORIGINAL-URL:https://resuccessinstitute.com
X-WR-CALDESC:Events for Real Estate Success Institute
REFRESH-INTERVAL;VALUE=DURATION:PT1H
X-Robots-Tag:noindex
X-PUBLISHED-TTL:PT1H
BEGIN:VTIMEZONE
TZID:America/New_York
BEGIN:DAYLIGHT
TZOFFSETFROM:-0500
TZOFFSETTO:-0400
TZNAME:EDT
DTSTART:20220313T070000
END:DAYLIGHT
BEGIN:STANDARD
TZOFFSETFROM:-0400
TZOFFSETTO:-0500
TZNAME:EST
DTSTART:20221106T060000
END:STANDARD
BEGIN:DAYLIGHT
TZOFFSETFROM:-0500
TZOFFSETTO:-0400
TZNAME:EDT
DTSTART:20230312T070000
END:DAYLIGHT
BEGIN:STANDARD
TZOFFSETFROM:-0400
TZOFFSETTO:-0500
TZNAME:EST
DTSTART:20231105T060000
END:STANDARD
BEGIN:DAYLIGHT
TZOFFSETFROM:-0500
TZOFFSETTO:-0400
TZNAME:EDT
DTSTART:20240310T070000
END:DAYLIGHT
BEGIN:STANDARD
TZOFFSETFROM:-0400
TZOFFSETTO:-0500
TZNAME:EST
DTSTART:20241103T060000
END:STANDARD
END:VTIMEZONE
BEGIN:VEVENT
DTSTART;TZID=America/New_York:20231013T100000
DTEND;TZID=America/New_York:20231013T110000
DTSTAMP:20260421T085612
CREATED:20230830T165732Z
LAST-MODIFIED:20230830T165732Z
UID:5113-1697191200-1697194800@resuccessinstitute.com
SUMMARY:NEXUS Morning Connect - Understanding the VA Loan
DESCRIPTION:Presented By: NEXUS Association of REALTORS® and Laura DeStefano of Gateway Mortgage Group\n\nContinuing Education Credit: \n\nNot for CE\n\nPrice: Member – Free \n\nImportant Message: Live Webinar\n\n\nInstructor: Laura DeStefano of Gateway Mortgage Group\n\nDescription: \n\nThis session will teach you about: \n\nEligibility requirements for the VA loan\nPurchasing an existing home or new construction with a VA loan.\nThe VA loan process – from pre-approval to closing.\nThe benefits of having a VA loan.\n\nREGISTER HERE 
URL:https://resuccessinstitute.com/calendar/nexus-morning-connect-understanding-the-va-loan/
LOCATION:Live Webinar
END:VEVENT
END:VCALENDAR