BEGIN:VCALENDAR
VERSION:2.0
PRODID:-//Real Estate Success Institute - ECPv6.15.20//NONSGML v1.0//EN
CALSCALE:GREGORIAN
METHOD:PUBLISH
X-WR-CALNAME:Real Estate Success Institute
X-ORIGINAL-URL:https://resuccessinstitute.com
X-WR-CALDESC:Events for Real Estate Success Institute
REFRESH-INTERVAL;VALUE=DURATION:PT1H
X-Robots-Tag:noindex
X-PUBLISHED-TTL:PT1H
BEGIN:VTIMEZONE
TZID:UTC
BEGIN:STANDARD
TZOFFSETFROM:+0000
TZOFFSETTO:+0000
TZNAME:UTC
DTSTART:20220101T000000
END:STANDARD
END:VTIMEZONE
BEGIN:VEVENT
DTSTART;TZID=UTC:20231011T100000
DTEND;TZID=UTC:20231011T110000
DTSTAMP:20260421T072226
CREATED:20221115T214406Z
LAST-MODIFIED:20221115T214406Z
UID:4608-1697018400-1697022000@resuccessinstitute.com
SUMMARY:Creating a CMA with Bright MLS
DESCRIPTION:Description: Looking to help your Sellers with their pricing strategies?\nIn this class your will learn how to create a comparative market analysis (CMA) in Bright MLS that can\nhelp your sellers set the right price. In this class you will learn how to:\n• Find the best comps from sources like listings\, public records\, and/or carts\n• Generate other relevant Bright MLS reports to make your CMA more informative\n• Use Bright MLS to create Comparative Market Analysis (CMAs) \n*THIS IS AN IN PERSON CLASS. LOCATION TBD*\n\nREGISTER HERE
URL:https://resuccessinstitute.com/calendar/creating-a-cma-with-bright-mls-2/
LOCATION:TBD
END:VEVENT
BEGIN:VEVENT
DTSTART;TZID=UTC:20231011T113000
DTEND;TZID=UTC:20231011T123000
DTSTAMP:20260421T072226
CREATED:20221115T214533Z
LAST-MODIFIED:20221115T214533Z
UID:4610-1697023800-1697027400@resuccessinstitute.com
SUMMARY:Manage and Monitor Listing Activity
DESCRIPTION:Description: Congrats! You have impressed the Seller and won the listing! Now what? It’s time to find a\nbuyer and sell the house by entering the listing in Bright MLS for maximum exposure! In this class you\nwill learn how to:\n• Enter your listing in Bright MLS\n• Manage and edit your listing\n• Monitor your listing activity  \n*THIS IS AN IN PERSON CLASS. LOCATION TBD* \nREGISTER HERE
URL:https://resuccessinstitute.com/calendar/manage-and-monitor-listing-activity-2/
LOCATION:TBD
END:VEVENT
END:VCALENDAR