BEGIN:VCALENDAR
VERSION:2.0
PRODID:-//Real Estate Success Institute - ECPv6.15.20//NONSGML v1.0//EN
CALSCALE:GREGORIAN
METHOD:PUBLISH
X-ORIGINAL-URL:https://resuccessinstitute.com
X-WR-CALDESC:Events for Real Estate Success Institute
REFRESH-INTERVAL;VALUE=DURATION:PT1H
X-Robots-Tag:noindex
X-PUBLISHED-TTL:PT1H
BEGIN:VTIMEZONE
TZID:America/New_York
BEGIN:DAYLIGHT
TZOFFSETFROM:-0500
TZOFFSETTO:-0400
TZNAME:EDT
DTSTART:20220313T070000
END:DAYLIGHT
BEGIN:STANDARD
TZOFFSETFROM:-0400
TZOFFSETTO:-0500
TZNAME:EST
DTSTART:20221106T060000
END:STANDARD
BEGIN:DAYLIGHT
TZOFFSETFROM:-0500
TZOFFSETTO:-0400
TZNAME:EDT
DTSTART:20230312T070000
END:DAYLIGHT
BEGIN:STANDARD
TZOFFSETFROM:-0400
TZOFFSETTO:-0500
TZNAME:EST
DTSTART:20231105T060000
END:STANDARD
BEGIN:DAYLIGHT
TZOFFSETFROM:-0500
TZOFFSETTO:-0400
TZNAME:EDT
DTSTART:20240310T070000
END:DAYLIGHT
BEGIN:STANDARD
TZOFFSETFROM:-0400
TZOFFSETTO:-0500
TZNAME:EST
DTSTART:20241103T060000
END:STANDARD
END:VTIMEZONE
BEGIN:VEVENT
DTSTART;TZID=America/New_York:20230920T100000
DTEND;TZID=America/New_York:20230920T160000
DTSTAMP:20260421T072304
CREATED:20230629T181919Z
LAST-MODIFIED:20230912T154158Z
UID:5060-1695204000-1695225600@resuccessinstitute.com
SUMMARY:Pricing Strategies: Mastering the CMA
DESCRIPTION:Presented By: NEXUS Association of REALTORS®\nProduct Type: Live\, Classroom\nContinuing Education Credit: New Jersey Real Estate: 6 Elective Credits\nImportant Message: This course is live in-person at the Cherry Hill location. If you have any questions\, please e-mail Lclark@nexusaor.com.\n\nPrice: Member – $99\n\n\nInstructor: Connie Glass-Birnbohm \n\nDescription: \n\nThis course is specifically designed to help residential real estate agents and brokers enhance their skills in pricing properties\, creating CMAs\, working with appraisers\, and guiding clients through the anxieties and misperceptions they often have about home values. \n\n\n\nProduct Notes \n\nLunch Included \nThe Pricing Strategy Advisor (PSA) certification is specifically designed to enhance your skills in pricing properties\, creating CMAs\, working with appraisers\, and guiding clients through the anxieties and misperceptions they often have about home values. \n\nThe purpose and benefits of CMAs\, and how to guide clients through them\nTerminology of pricing and valuation\nThe Code of Ethics as it relates to pricing\nHow to identify appropriate comparables\, and where to find information about them\nThe role of supply and demand in pricing\nHow to adjust comparables\nSpecific challenges and special situations in making adjustments\nHow to work with appraisers\nHow to hone your pricing skills and practices\n\n\n\n\n\n\nREGISTER HERE
URL:https://resuccessinstitute.com/calendar/pricing-strategies-mastering-the-cma/
LOCATION:NEXUS Association of Realtors® – Cherry Hill\, 306 Kings Highway South\, Cherry Hill\, NJ\, 08034\, United States
END:VEVENT
END:VCALENDAR