BEGIN:VCALENDAR
VERSION:2.0
PRODID:-//Real Estate Success Institute - ECPv6.15.20//NONSGML v1.0//EN
CALSCALE:GREGORIAN
METHOD:PUBLISH
X-WR-CALNAME:Real Estate Success Institute
X-ORIGINAL-URL:https://resuccessinstitute.com
X-WR-CALDESC:Events for Real Estate Success Institute
REFRESH-INTERVAL;VALUE=DURATION:PT1H
X-Robots-Tag:noindex
X-PUBLISHED-TTL:PT1H
BEGIN:VTIMEZONE
TZID:UTC
BEGIN:STANDARD
TZOFFSETFROM:+0000
TZOFFSETTO:+0000
TZNAME:UTC
DTSTART:20220101T000000
END:STANDARD
END:VTIMEZONE
BEGIN:VTIMEZONE
TZID:America/New_York
BEGIN:DAYLIGHT
TZOFFSETFROM:-0500
TZOFFSETTO:-0400
TZNAME:EDT
DTSTART:20220313T070000
END:DAYLIGHT
BEGIN:STANDARD
TZOFFSETFROM:-0400
TZOFFSETTO:-0500
TZNAME:EST
DTSTART:20221106T060000
END:STANDARD
BEGIN:DAYLIGHT
TZOFFSETFROM:-0500
TZOFFSETTO:-0400
TZNAME:EDT
DTSTART:20230312T070000
END:DAYLIGHT
BEGIN:STANDARD
TZOFFSETFROM:-0400
TZOFFSETTO:-0500
TZNAME:EST
DTSTART:20231105T060000
END:STANDARD
BEGIN:DAYLIGHT
TZOFFSETFROM:-0500
TZOFFSETTO:-0400
TZNAME:EDT
DTSTART:20240310T070000
END:DAYLIGHT
BEGIN:STANDARD
TZOFFSETFROM:-0400
TZOFFSETTO:-0500
TZNAME:EST
DTSTART:20241103T060000
END:STANDARD
END:VTIMEZONE
BEGIN:VEVENT
DTSTART;TZID=UTC:20230913T100000
DTEND;TZID=UTC:20230913T110000
DTSTAMP:20260421T072319
CREATED:20221115T214011Z
LAST-MODIFIED:20221115T214011Z
UID:4604-1694599200-1694602800@resuccessinstitute.com
SUMMARY:Prospecting: Identifying your Target Market in Bright Public Records
DESCRIPTION:Description: Are you looking to find new buyers\, sellers\, or even investors? Come join us to learn how to use Public Records in Bright MLS to prospect for new business. \nREGISTER HERE
URL:https://resuccessinstitute.com/calendar/prospecting-identifying-your-target-market-in-bright-public-records/
LOCATION:Live Webinar
END:VEVENT
BEGIN:VEVENT
DTSTART;TZID=America/New_York:20230913T100000
DTEND;TZID=America/New_York:20230913T120000
DTSTAMP:20260421T072319
CREATED:20230726T164912Z
LAST-MODIFIED:20230726T164912Z
UID:5079-1694599200-1694606400@resuccessinstitute.com
SUMMARY:Lead Paint & Real Estate
DESCRIPTION:Presented By: NEXUS Association of REALTORS®\n\n\nContinuing Education Credit: \n\nNew Jersey Real Estate: 2 Elective Credits (C20204224)\n\nPrice: Member – $15.00 / Non-member – $20.00 \n\nImportant Message: LIVE Zoom Class – You will receive an invite link one day prior to class. If you have questions\, feel free to e-mail Lclark@nexusaor.com.\n\n\nInstructor: David Sulock\n\nDescription: \n\nLead Paint is becoming more relevant in real estate transactions in today’s market. Why was lead so popular and what led to the lead demise? \nThis class discusses the history of lead\, in paint\, dust\, soil\, and drinking water. It discusses why lead paint was so popular and when it was restricted from being used. You will learn the health hazards of lead and what the turning point was in history when lead was no longer popular. Lead laws are popping up in NJ\, and they are prevalent in local cities in other states. This class dives deep into the laws and regulations\, discusses what types of sampling and inspections are needed and how to find a licensed lead inspector. The class goes into detail on Lead Risk Assessment and Lead Paint Inspections\, and the difference between the two. \nYou will walk out of the class with full knowledge of Bill S-829 and Bill S1147 and how it affects real estate. \n\nREGISTER HERE
URL:https://resuccessinstitute.com/calendar/lead-paint-real-estate/
LOCATION:Live Webinar
END:VEVENT
BEGIN:VEVENT
DTSTART;TZID=UTC:20230913T113000
DTEND;TZID=UTC:20230913T123000
DTSTAMP:20260421T072319
CREATED:20221115T214126Z
LAST-MODIFIED:20221115T214126Z
UID:4606-1694604600-1694608200@resuccessinstitute.com
SUMMARY:Manage and collaborate with buyers using Bright MLS
DESCRIPTION:Description: Do you want to work with your buyers more effectively and efficiently in Bright MLS? In this\nclass we will show you how to:\n• Manage your contacts\n• Automate your notifications and email communication\n• Track your client home search activity\n• Schedule and share showing itineraries \nREGISTER HERE
URL:https://resuccessinstitute.com/calendar/manage-and-collaborate-with-buyers-using-bright-mls-2/
LOCATION:Live Webinar
END:VEVENT
END:VCALENDAR