BEGIN:VCALENDAR
VERSION:2.0
PRODID:-//Real Estate Success Institute - ECPv6.15.20//NONSGML v1.0//EN
CALSCALE:GREGORIAN
METHOD:PUBLISH
X-WR-CALNAME:Real Estate Success Institute
X-ORIGINAL-URL:https://resuccessinstitute.com
X-WR-CALDESC:Events for Real Estate Success Institute
REFRESH-INTERVAL;VALUE=DURATION:PT1H
X-Robots-Tag:noindex
X-PUBLISHED-TTL:PT1H
BEGIN:VTIMEZONE
TZID:America/New_York
BEGIN:DAYLIGHT
TZOFFSETFROM:-0500
TZOFFSETTO:-0400
TZNAME:EDT
DTSTART:20220313T070000
END:DAYLIGHT
BEGIN:STANDARD
TZOFFSETFROM:-0400
TZOFFSETTO:-0500
TZNAME:EST
DTSTART:20221106T060000
END:STANDARD
BEGIN:DAYLIGHT
TZOFFSETFROM:-0500
TZOFFSETTO:-0400
TZNAME:EDT
DTSTART:20230312T070000
END:DAYLIGHT
BEGIN:STANDARD
TZOFFSETFROM:-0400
TZOFFSETTO:-0500
TZNAME:EST
DTSTART:20231105T060000
END:STANDARD
BEGIN:DAYLIGHT
TZOFFSETFROM:-0500
TZOFFSETTO:-0400
TZNAME:EDT
DTSTART:20240310T070000
END:DAYLIGHT
BEGIN:STANDARD
TZOFFSETFROM:-0400
TZOFFSETTO:-0500
TZNAME:EST
DTSTART:20241103T060000
END:STANDARD
END:VTIMEZONE
BEGIN:VEVENT
DTSTART;TZID=America/New_York:20230816T100000
DTEND;TZID=America/New_York:20230816T110000
DTSTAMP:20260421T085544
CREATED:20230629T184641Z
LAST-MODIFIED:20230629T184641Z
UID:5064-1692180000-1692183600@resuccessinstitute.com
SUMMARY:NEXUS Morning Connect - Working with Buyers Unqualified for Traditional Financing
DESCRIPTION:Presented By: NEXUS Association of REALTORS® and 1031 Exhange\n\nContinuing Education Credit: \n\nNot for CE\n\nPrice: Member – Free \n\nImportant Message: This is an in-person class\n\n\nInstructor: Mike McKeown of Allied Mortgage Group\n\nDescription: \n\nNEXUS Morning Connect is a quick jot of industry tips and insights. This series is an impactful way to expand your knowledge in topics related to your industry\, instructed by the professionals who know them best. Free for all NEXUS members. \nMany buyers today do not qualify for traditional financing. How do you serve them? We have many types of loan programs that can help these buyers buy homes. My class is teaching you about them\, so you turn these clients into closed deals. \nWorking with Buyers Unqualified for Traditional Financing \n\nLearn how a “bank statement loan” works and how we qualify them.\nPurchasing an investment property using only the proposed rental income to qualify.\nNo doc loans. How these loans work and what is verified.\nForeign National Loans\, ITIN\, 1099’s loans\, and more!!!\n\nREGISTER HERE 
URL:https://resuccessinstitute.com/calendar/nexus-morning-connect-working-with-buyers-unqualified-for-traditional-financing/
LOCATION:NEXUS Association of Realtors® – Cherry Hill\, 306 Kings Highway South\, Cherry Hill\, NJ\, 08034\, United States
END:VEVENT
END:VCALENDAR