BEGIN:VCALENDAR
VERSION:2.0
PRODID:-//Real Estate Success Institute - ECPv6.15.20//NONSGML v1.0//EN
CALSCALE:GREGORIAN
METHOD:PUBLISH
X-WR-CALNAME:Real Estate Success Institute
X-ORIGINAL-URL:https://resuccessinstitute.com
X-WR-CALDESC:Events for Real Estate Success Institute
REFRESH-INTERVAL;VALUE=DURATION:PT1H
X-Robots-Tag:noindex
X-PUBLISHED-TTL:PT1H
BEGIN:VTIMEZONE
TZID:America/New_York
BEGIN:DAYLIGHT
TZOFFSETFROM:-0500
TZOFFSETTO:-0400
TZNAME:EDT
DTSTART:20220313T070000
END:DAYLIGHT
BEGIN:STANDARD
TZOFFSETFROM:-0400
TZOFFSETTO:-0500
TZNAME:EST
DTSTART:20221106T060000
END:STANDARD
BEGIN:DAYLIGHT
TZOFFSETFROM:-0500
TZOFFSETTO:-0400
TZNAME:EDT
DTSTART:20230312T070000
END:DAYLIGHT
BEGIN:STANDARD
TZOFFSETFROM:-0400
TZOFFSETTO:-0500
TZNAME:EST
DTSTART:20231105T060000
END:STANDARD
BEGIN:DAYLIGHT
TZOFFSETFROM:-0500
TZOFFSETTO:-0400
TZNAME:EDT
DTSTART:20240310T070000
END:DAYLIGHT
BEGIN:STANDARD
TZOFFSETFROM:-0400
TZOFFSETTO:-0500
TZNAME:EST
DTSTART:20241103T060000
END:STANDARD
END:VTIMEZONE
BEGIN:VEVENT
DTSTART;TZID=America/New_York:20230713T100000
DTEND;TZID=America/New_York:20230713T110000
DTSTAMP:20260421T115547
CREATED:20230615T172739Z
LAST-MODIFIED:20230707T153710Z
UID:5054-1689242400-1689246000@resuccessinstitute.com
SUMMARY:NEXUS Morning Connect - US Bank
DESCRIPTION:Presented By: NEXUS Association of REALTORS® and US Bank\n\nContinuing Education Credit: \n\nNot for CE\n\nPrice: Member – Free \n\nImportant Message: This is an in-person class at NEXUS Toms River\n\n\nInstructor: Adam Lepore\n\nDescription: \n\nNEXUS Morning Connect is a quick jot of industry tips and insights. This series is an impactful way to expand your knowledge in topics related to your industry\, instructed by the professionals who know them best. Free for all NEXUS members. \nBuild Your Home with the Right Financing with US Bank \nIn the US Bank session\, you will learn: \nOptions to aquiring a lot \nWho is eligable for construction to permanant financing \nHow to convert the construction loan to a permanant mortgage \nREGISTER HERE
URL:https://resuccessinstitute.com/calendar/nexus-morning-connect-us-bank/
LOCATION:NEXUS Association of REALTORS® – Toms River\, 271 Lakehurst Road\, Toms River\, NJ\, 08755\, United States
END:VEVENT
BEGIN:VEVENT
DTSTART;TZID=America/New_York:20230713T100000
DTEND;TZID=America/New_York:20230713T110000
DTSTAMP:20260421T115547
CREATED:20230615T173031Z
LAST-MODIFIED:20230615T173031Z
UID:5056-1689242400-1689246000@resuccessinstitute.com
SUMMARY:NEXUS Morning Connect - 1031 Exchange
DESCRIPTION:Presented By: NEXUS Association of REALTORS® and 1031 Exhange\n\nContinuing Education Credit: \n\nNot for CE\n\nPrice: Member – Free \n\nImportant Message: This is an in-person class\n\n\nInstructor: David Gorenberg\n\nDescription: \n\nNEXUS Morning Connect is a quick jot of industry tips and insights. This series is an impactful way to expand your knowledge in topics related to your industry\, instructed by the professionals who know them best. Free for all NEXUS members. \nUncovering Hidden Listings with 1031 Exchanges \nIn the 1031 Exchange session\, you will learn: \nAn overview of 1031 exchange rules and pitfalls to avoid \nTips and strategies to help the agents differentiate from their competition and develop new listings \nHow 1031 Exchange is not a “loophole.” It benefits the economy and real estate professionals \nREGISTER HERE 
URL:https://resuccessinstitute.com/calendar/nexus-morning-connect-1031-exchange/
LOCATION:NEXUS Association of Realtors® – Cherry Hill\, 306 Kings Highway South\, Cherry Hill\, NJ\, 08034\, United States
END:VEVENT
END:VCALENDAR