BEGIN:VCALENDAR
VERSION:2.0
PRODID:-//Real Estate Success Institute - ECPv6.15.20//NONSGML v1.0//EN
CALSCALE:GREGORIAN
METHOD:PUBLISH
X-WR-CALNAME:Real Estate Success Institute
X-ORIGINAL-URL:https://resuccessinstitute.com
X-WR-CALDESC:Events for Real Estate Success Institute
REFRESH-INTERVAL;VALUE=DURATION:PT1H
X-Robots-Tag:noindex
X-PUBLISHED-TTL:PT1H
BEGIN:VTIMEZONE
TZID:America/New_York
BEGIN:DAYLIGHT
TZOFFSETFROM:-0500
TZOFFSETTO:-0400
TZNAME:EDT
DTSTART:20220313T070000
END:DAYLIGHT
BEGIN:STANDARD
TZOFFSETFROM:-0400
TZOFFSETTO:-0500
TZNAME:EST
DTSTART:20221106T060000
END:STANDARD
BEGIN:DAYLIGHT
TZOFFSETFROM:-0500
TZOFFSETTO:-0400
TZNAME:EDT
DTSTART:20230312T070000
END:DAYLIGHT
BEGIN:STANDARD
TZOFFSETFROM:-0400
TZOFFSETTO:-0500
TZNAME:EST
DTSTART:20231105T060000
END:STANDARD
BEGIN:DAYLIGHT
TZOFFSETFROM:-0500
TZOFFSETTO:-0400
TZNAME:EDT
DTSTART:20240310T070000
END:DAYLIGHT
BEGIN:STANDARD
TZOFFSETFROM:-0400
TZOFFSETTO:-0500
TZNAME:EST
DTSTART:20241103T060000
END:STANDARD
END:VTIMEZONE
BEGIN:VEVENT
DTSTART;TZID=America/New_York:20230615T100000
DTEND;TZID=America/New_York:20230615T130000
DTSTAMP:20260422T052951
CREATED:20230531T164804Z
LAST-MODIFIED:20230531T164935Z
UID:5035-1686823200-1686834000@resuccessinstitute.com
SUMMARY:Buyer Agency Workshop - Mt Laurel
DESCRIPTION:Presented By: NEXUS Association of REALTORS®\n\n\nContinuing Education Credit: \n\nNot for CE\n\nPrice: Member – $15.00 \n\nImportant Message: This is an in-person class\n\n\nInstructor: Anna Janda\n\nDescription: \n\nNational Association of REALTORS® are now involved in a class action lawsuit regarding commissions. For example\, a recent headline in Real Estate News read: “Lawsuit Could Shake the Landscape for Buyer’s Agents”. \nHow do you discuss commission with buyers? \nDo you know the difference between a customer and a client? \nHow do you review a buyers agency agreement? \nThis workshop is designed as a complete interactive experience on Consumer Information Disclosure Statements and Buyer Agency Agreements. Emphasis will be placed on how a Buyer’s Agent is compensated for their services without violating antitrust laws. \nLunch will be provided. If you have dietary restrictions\, please plan accordingly. \n\nREGISTER HERE
URL:https://resuccessinstitute.com/calendar/buyer-agency-workshop-mt-laurel/
LOCATION:Fulton Bank\, 533 Fellowship Rd\, Mt Laurel\, NJ\, 08054
END:VEVENT
END:VCALENDAR