BEGIN:VCALENDAR
VERSION:2.0
PRODID:-//Real Estate Success Institute - ECPv6.15.20//NONSGML v1.0//EN
CALSCALE:GREGORIAN
METHOD:PUBLISH
X-WR-CALNAME:Real Estate Success Institute
X-ORIGINAL-URL:https://resuccessinstitute.com
X-WR-CALDESC:Events for Real Estate Success Institute
REFRESH-INTERVAL;VALUE=DURATION:PT1H
X-Robots-Tag:noindex
X-PUBLISHED-TTL:PT1H
BEGIN:VTIMEZONE
TZID:UTC
BEGIN:STANDARD
TZOFFSETFROM:+0000
TZOFFSETTO:+0000
TZNAME:UTC
DTSTART:20210101T000000
END:STANDARD
END:VTIMEZONE
BEGIN:VEVENT
DTSTART;TZID=UTC:20220419T100000
DTEND;TZID=UTC:20220419T110000
DTSTAMP:20260421T164204
CREATED:20220322T200336Z
LAST-MODIFIED:20220322T200336Z
UID:4072-1650362400-1650366000@resuccessinstitute.com
SUMMARY:The Secrets to Embracing Diversity\, Equity & Inclusion
DESCRIPTION:Increase your knowledge and awareness of cultural and personal biases that may inhibit you from fully embracing diversity and creating a successful multicultural real estate business.\n•	NJREC 1 Elective CE Credit \nPresented by NJ Realtors®  \nREGISTER HERE
URL:https://resuccessinstitute.com/calendar/the-secrets-to-embracing-diversity-equity-inclusion/
LOCATION:Live Webinar
END:VEVENT
END:VCALENDAR