BEGIN:VCALENDAR
VERSION:2.0
PRODID:-//Real Estate Success Institute - ECPv6.15.20//NONSGML v1.0//EN
CALSCALE:GREGORIAN
METHOD:PUBLISH
X-WR-CALNAME:Real Estate Success Institute
X-ORIGINAL-URL:https://resuccessinstitute.com
X-WR-CALDESC:Events for Real Estate Success Institute
REFRESH-INTERVAL;VALUE=DURATION:PT1H
X-Robots-Tag:noindex
X-PUBLISHED-TTL:PT1H
BEGIN:VTIMEZONE
TZID:UTC
BEGIN:STANDARD
TZOFFSETFROM:+0000
TZOFFSETTO:+0000
TZNAME:UTC
DTSTART:20210101T000000
END:STANDARD
END:VTIMEZONE
BEGIN:VEVENT
DTSTART;TZID=UTC:20220413T093000
DTEND;TZID=UTC:20220413T123000
DTSTAMP:20260422T060044
CREATED:20220322T200118Z
LAST-MODIFIED:20220322T200118Z
UID:4070-1649842200-1649853000@resuccessinstitute.com
SUMMARY:Code of Ethics & the Fair Housing Act
DESCRIPTION:Ensure an equal housing opportunity to all with this ethics and fair housing course. Join us to learn and understand how to practice real estate in the most ethical way possible and the actions to take when ethics are in question.\n•	NJREC 2 Ethics/1 Fair Housing CE Credits \nPresented by NJ Realtors®  \nREGISTER HERE
URL:https://resuccessinstitute.com/calendar/code-of-ethics-the-fair-housing-act/
LOCATION:Live Webinar
END:VEVENT
END:VCALENDAR