BEGIN:VCALENDAR
VERSION:2.0
PRODID:-//Real Estate Success Institute - ECPv6.15.20//NONSGML v1.0//EN
CALSCALE:GREGORIAN
METHOD:PUBLISH
X-WR-CALNAME:Real Estate Success Institute
X-ORIGINAL-URL:https://resuccessinstitute.com
X-WR-CALDESC:Events for Real Estate Success Institute
REFRESH-INTERVAL;VALUE=DURATION:PT1H
X-Robots-Tag:noindex
X-PUBLISHED-TTL:PT1H
BEGIN:VTIMEZONE
TZID:UTC
BEGIN:STANDARD
TZOFFSETFROM:+0000
TZOFFSETTO:+0000
TZNAME:UTC
DTSTART:20210101T000000
END:STANDARD
END:VTIMEZONE
BEGIN:VEVENT
DTSTART;TZID=UTC:20220412T140000
DTEND;TZID=UTC:20220412T153000
DTSTAMP:20260422T074211
CREATED:20220322T195604Z
LAST-MODIFIED:20220322T195604Z
UID:4066-1649772000-1649777400@resuccessinstitute.com
SUMMARY:Fair Chance in Housing Act
DESCRIPTION:Hosted by NJ Division on Civil Rights. Get an overview of the Fair Chance in Housing Act (FCHA) while learning effective implementation strategies and model forms that can be utilized by housing providers.  \nREGISTER HERE
URL:https://resuccessinstitute.com/calendar/fair-chance-in-housing-act/
LOCATION:Live Webinar
END:VEVENT
END:VCALENDAR